BEGIN:VCALENDAR
VERSION:2.0
PRODID:-//Plone.org//NONSGML plone.app.event//EN
X-WR-TIMEZONE:Europe/Brussels
BEGIN:VEVENT
SUMMARY:Vivre la ville
DTSTART;TZID=Europe/Brussels;VALUE=DATE-TIME:20210325T090000
DTEND;TZID=Europe/Brussels;VALUE=DATE-TIME:20210326T130000
DTSTAMP;VALUE=DATE-TIME:20260422T040138Z
UID:1f3409cbdbea40ae885c5a6e5b1341fb
CONTACT:http://vivrelaville.be/
CREATED;VALUE=DATE-TIME:20210303T090751Z
DESCRIPTION:Après une première édition couronnée de succès\, Vivre la
  Ville revient en force en mars 2021 sous un format en ligne 100% COVID fr
 iendly ! Et mars\, c’est un mois anniversaire : un an d’événements p
 ar écrans interposés ! Aussi\, nous comptons bien nous saisir de cette o
 ccasion pour vous surprendre…
LAST-MODIFIED;VALUE=DATE-TIME:20210303T090932Z
URL:https://nadi.unamur.be/conferences/vivre-la-ville
END:VEVENT
BEGIN:VTIMEZONE
TZID:Europe/Brussels
X-LIC-LOCATION:Europe/Brussels
BEGIN:STANDARD
DTSTART;VALUE=DATE-TIME:20201025T020000
TZNAME:CET
TZOFFSETFROM:+0200
TZOFFSETTO:+0100
END:STANDARD
END:VTIMEZONE
END:VCALENDAR
