BEGIN:VCALENDAR
VERSION:2.0
PRODID:-//Plone.org//NONSGML plone.app.event//EN
X-WR-TIMEZONE:Europe/Brussels
BEGIN:VEVENT
SUMMARY:Journée des instituts de recherche de l'Namur
DTSTART;TZID=Europe/Brussels;VALUE=DATE-TIME:20211005T080000
DTEND;TZID=Europe/Brussels;VALUE=DATE-TIME:20211005T200000
DTSTAMP;VALUE=DATE-TIME:20260420T042949Z
UID:62fdbf066b474a27b780cf60bc7b272f
CREATED;VALUE=DATE-TIME:20211005T101405Z
LAST-MODIFIED;VALUE=DATE-TIME:20211005T101901Z
URL:https://nadi.unamur.be/conferences/journee-des-instituts-de-recherche-
 de-lnamur
END:VEVENT
BEGIN:VTIMEZONE
TZID:Europe/Brussels
X-LIC-LOCATION:Europe/Brussels
BEGIN:DAYLIGHT
DTSTART;VALUE=DATE-TIME:20210328T030000
TZNAME:CEST
TZOFFSETFROM:+0100
TZOFFSETTO:+0200
END:DAYLIGHT
END:VTIMEZONE
END:VCALENDAR
